BEGIN:VCALENDAR
VERSION:2.0
PRODID:-//eventon.com NONSGML v1.0//EN
CALSCALE:GREGORIAN
METHOD:PUBLISH
BEGIN:VEVENT
UID:69e602489f0ce
DTSTAMP:20260420T103904Z
DTSTART:20230129T200000Z
DTEND:20230202T000000Z
LOCATION:
SUMMARY:Inspection World 2023 - Las Vegas\,  NV - January 29-Feb 1
DESCRIPTION:Inspection World 2023 - Las Vegas\,  NV - January 29-Feb 1\nhtt
 ps://www.longislandashi.org/blog/events/inspection-world-2023-las-vegas-nv-
 january-29-feb-1/
URL:https://www.longislandashi.org/blog/events/inspection-world-2023-las-vegas-nv-january-29-feb-1/
END:VEVENT
END:VCALENDAR